BEGIN:VCALENDAR
VERSION:2.0
PRODID:icalendar-ruby
CALSCALE:GREGORIAN
METHOD:PUBLISH
BEGIN:VEVENT
DTSTAMP:20260421T103028Z
UID:5-402739@thebridgefamilychurch.org
DTSTART:20260920T140000Z
DTEND:20260920T150000Z
CLASS:PUBLIC
CREATED:20260420T205007
DESCRIPTION:Sunday Worship
LAST-MODIFIED:20260420T205007
LOCATION:
SUMMARY:Sunday Worship
URL;VALUE=URI:https://thebridgefamilychurch.org/events/sunday-worship/2026-
 09-20
END:VEVENT
END:VCALENDAR
