BEGIN:VCALENDAR
VERSION:2.0
PRODID:icalendar-ruby
CALSCALE:GREGORIAN
METHOD:PUBLISH
BEGIN:VEVENT
DTSTAMP:20260421T155039Z
UID:5-403264@thebridgefamilychurch.org
DTSTART:20261011T140000Z
DTEND:20261011T150000Z
CLASS:PUBLIC
CREATED:20260421T103221
DESCRIPTION:Sunday Worship
LAST-MODIFIED:20260421T103221
LOCATION:
SUMMARY:Sunday Worship
URL;VALUE=URI:https://thebridgefamilychurch.org/events/sunday-worship/2026-
 10-11
END:VEVENT
END:VCALENDAR
