BEGIN:VCALENDAR
VERSION:2.0
PRODID:icalendar-ruby
CALSCALE:GREGORIAN
METHOD:PUBLISH
BEGIN:VEVENT
DTSTAMP:20260421T192401Z
UID:5-403527@thebridgefamilychurch.org
DTSTART:20261025T140000Z
DTEND:20261025T150000Z
CLASS:PUBLIC
CREATED:20260421T131152
DESCRIPTION:Sunday Worship
LAST-MODIFIED:20260421T131152
LOCATION:
SUMMARY:Sunday Worship
URL;VALUE=URI:https://thebridgefamilychurch.org/events/sunday-worship/2026-
 10-25
END:VEVENT
END:VCALENDAR
